Workbook

Sheet THANG 1
A1: ĐẢNG BỘ TRƯỜNG CAO ĐẲNG LÝ TỰ TRỌNG THÀNH PHỐ HỒ CHÍ MINH CHI BỘ 2 * | G1: CỘNG HÒA XÃ HỘI CHỦ NGHĨA VIỆT NAM Độc lập - Tự do - Hạnh phúc
A2: BẢNG TỔNG HỢP Các khoản thu nhập dùng để tính đóng đảng phí tháng 01 năm 2019
A3: TT | B3: Họ tên | C3: HS lương | D3: PC CV | E3: PC VK | G3: Phụ cấp TNNG | I3: Lương cơ bản | J3: Tổng lương | K3: Đảng phí 1% | L3: Truy thu
B4: 2 | C4: 3 | D4: 4 | E4: 5 | F4: 6=3*5 | G4: 7 | H4: 8=(3+4+6)*7 | I4: 9 | J4: 10 = 8*9 | K4: 11=10*1%
A5: 1 | B5: Phạm Hữu Lộc | C5: 4.98 | D5: 0.9 | E5: 0.09 | F5: =C5*E5 -> 0.4482 | G5: 0.31 | H5: =(C5+D5+F5)*G5 -> 1.961742 | I5: 1390000 | J5: =(C5+D5+F5+H5)*I5 -> 11523019 | K5: =J5*1% -> 115230.19
A6: 2 | B6: Lâm Viết Dũng | C6: 4.65 | D6: 0.45 | F6: =C6*E6 -> 0 | G6: 0.16 | H6: =(C6+D6+F6)*G6 -> 0.816 | I6: 1390000 | J6: =(C6+D6+F6+H6)*I6 -> 8223240 | K6: =J6*1% -> 82232.4
A7: 3 | B7: Nguyễn Thị Hoa | C7: 4.65 | D7: 0.35 | F7: =C7*E7 -> 0 | I7: 1390000 | J7: =(C7+D7+F7+H7)*I7 -> 6950000 | K7: =J7*1% -> 69500
A8: 4 | B8: Nguyễn Văn Chì | C8: 3 | F8: =C8*E8 -> 0 | I8: 1390000 | J8: =(C8+D8+F8+H8)*I8 -> 4170000 | K8: =J8*1% -> 41700
A9: 5 | B9: Nguyễn Thanh Lâm | C9: 4.98 | D9: 0.45 | E9: 0.11 | F9: =C9*E9 -> 0.5478 | G9: 0.16 | H9: =(C9+D9+F9)*G9 -> 0.956448 | I9: 1390000 | J9: =(C9+D9+F9+H9)*I9 -> 9638604.7 | K9: =J9*1% -> 96386.047
A10: 6 | B10: Nguyễn Văn Chiến | C10: 3.66 | D10: 0.35 | F10: =C10*E10 -> 0 | I10: 1390000 | J10: =(C10+D10+F10+H10)*I10 -> 5573900 | K10: =J10*1% -> 55739
A11: 7 | B11: Nguyễn Văn Tấn | C11: 4.98 | D11: 0.35 | E11: 0.1 | F11: =C11*E11 -> 0.498 | I11: 1390000 | J11: =(C11+D11+F11+H11)*I11 -> 8100920 | K11: =J11*1% -> 81009.2
A12: 8 | B12: Nguyễn Thị Kim Dung | C12: 3.66 | D12: 0.35 | F12: =C12*E12 -> 0 | I12: 1390000 | J12: =(C12+D12+F12+H12)*I12 -> 5573900 | K12: =J12*1% -> 55739
A13: 9 | B13: Nguyễn Chí Nhân | C13: 3.99 | D13: 0.35 | F13: =C13*E13 -> 0 | G13: 0.13 | H13: =(C13+D13+F13)*G13 -> 0.5642 | I13: 1390000 | J13: =(C13+D13+F13+H13)*I13 -> 6816838 | K13: =J13*1% -> 68168.38
A14: 10 | B14: Lê Quang Liêm | C14: 4.65 | D14: 0.45 | F14: =C14*E14 -> 0 | G14: 0.17 | H14: =(C14+D14+F14)*G14 -> 0.867 | I14: 1390000 | J14: =(C14+D14+F14+H14)*I14 -> 8294130 | K14: =J14*1% -> 82941.3
A15: 11 | B15: Võ Thị Xuân Thơ | C15: 3.99 | F15: =C15*E15 -> 0 | I15: 1390000 | J15: =(C15+D15+F15+H15)*I15 -> 5546100 | K15: =J15*1% -> 55461
A16: 12 | B16: Phạm Hữu Tấn | C16: 2.67 | F16: =C16*E16 -> 0 | I16: 1390000 | J16: =(C16+D16+F16+H16)*I16 -> 3711300 | K16: =J16*1% -> 37113
A17: 13 | B17: Nguyễn Ngọc Trang | C17: 5.42 | D17: 0.45 | F17: =C17*E17 -> 0 | G17: 0.26 | H17: =(C17+D17+F17)*G17 -> 1.5262 | I17: 1390000 | J17: =(C17+D17+F17+H17)*I17 -> 10280718 | K17: =J17*1% -> 102807.18 | M17: =L19+L20+L21 -> 37600 | N17: =M17*30% -> 11280
A18: 14 | B18: Trương Thị Hồng | C18: 2.67 | F18: =C18*E18 -> 0 | H18: =(C18+D18+F18)*G18 -> 0 | I18: 1390000 | J18: =(C18+D18+F18+H18)*I18 -> 3711300 | K18: =J18*1% -> 37113 | N18: =M17-N17 -> 26320 | O18: =N18*30% -> 7896
A19: 15 | B19: Nguyễn Yến Nhi | C19: 3 | F19: =C19*E19 -> 0 | H19: =(C19+D19+F19)*G19 -> 0 | I19: 1390000 | J19: =(C19+D19+F19+H19)*I19 -> 4170000 | K19: =J19*1% -> 41700 | L19: 4587
A20: 16 | B20: Lưu Hoàng Hải Yến | C20: 2.67 | F20: =C20*E20 -> 0 | I20: 1390000 | J20: =(C20+D20+F20+H20)*I20 -> 3711300 | K20: =J20*1% -> 37113 | L20: 16263
A21: 17 | B21: Trần Quốc Định | C21: 2.41 | F21: =C21*E21 -> 0 | I21: 1390000 | J21: =(C21+D21+F21+H21)*I21 -> 3349900 | K21: =J21*1% -> 33499 | L21: 16750 | N21: =SUM(K5:K21) -> 1093451.7
A22: 18 | B22: Thái Thị My Sa | C22: 2.67 | F22: =C22*E22 -> 0 | I22: 1390000 | J22: =(C22+D22+F22+H22)*I22 -> 3711300 | K22: =J22*1% -> 37113
A23: TỔNG CỘNG: | J23: =SUM(J5:J22) -> 1.1305647e+08 | K23: =SUM(K5:K22) -> 1130564.7
A25: - Chi bộ trích lại 30% tiền thu đảng phí: | D25: =K23*30% -> 339169.41 | E25: đồng
A26: - Chi bộ nộp lên đảng bộ trường 70%: | D26: =K23*70% -> 791395.29 | E26: đồng
G28: TP.Hồ Chí Minh, ngày tháng năm 2019
A29: NGƯỜI LẬP BÁO CÁO | G29: T/M BỘ
G30: BÍ THƯ
A36: Nguyễn Thị Hoa | G36: Lâm Viết Dũng

Sheet THANG 2
A1: ĐẢNG BỘ TRƯỜNG CAO ĐẲNG LÝ TỰ TRỌNG THÀNH PHỐ HỒ CHÍ MINH CHI BỘ 2 * | G1: CỘNG HÒA XÃ HỘI CHỦ NGHĨA VIỆT NAM Độc lập - Tự do - Hạnh phúc
A2: BẢNG TỔNG HỢP Các khoản thu nhập dùng để tính đóng đảng phí tháng 02 năm 2019
A3: TT | B3: Họ tên | C3: HS lương | D3: PC CV | E3: PC VK | G3: Phụ cấp TNNG | I3: Lương cơ bản | J3: Tổng lương | K3: Đảng phí 1% | L3: Truy thu
B4: 2 | C4: 3 | D4: 4 | E4: 5 | F4: 6=3*5 | G4: 7 | H4: 8=(3+4+6)*7 | I4: 9 | J4: 10 = 8*9 | K4: 11=10*1%
A5: 1 | B5: Phạm Hữu Lộc | C5: 4.98 | D5: 0.9 | E5: 0.09 | F5: =C5*E5 -> 0.4482 | G5: 0.31 | H5: =(C5+D5+F5)*G5 -> 1.961742 | I5: 1390000 | J5: =(C5+D5+F5+H5)*I5 -> 11523019 | K5: =J5*1% -> 115230.19
A6: 2 | B6: Lâm Viết Dũng | C6: 4.65 | D6: 0.45 | F6: =C6*E6 -> 0 | G6: 0.16 | H6: =(C6+D6+F6)*G6 -> 0.816 | I6: 1390000 | J6: =(C6+D6+F6+H6)*I6 -> 8223240 | K6: =J6*1% -> 82232.4
A7: 3 | B7: Nguyễn Thị Hoa | C7: 4.65 | D7: 0.35 | F7: =C7*E7 -> 0 | I7: 1390000 | J7: =(C7+D7+F7+H7)*I7 -> 6950000 | K7: =J7*1% -> 69500
A8: 4 | B8: Nguyễn Văn Chì | C8: 3 | F8: =C8*E8 -> 0 | I8: 1390000 | J8: =(C8+D8+F8+H8)*I8 -> 4170000 | K8: =J8*1% -> 41700
A9: 5 | B9: Nguyễn Thanh Lâm | C9: 4.98 | D9: 0.45 | E9: 0.11 | F9: =C9*E9 -> 0.5478 | G9: 0.16 | H9: =(C9+D9+F9)*G9 -> 0.956448 | I9: 1390000 | J9: =(C9+D9+F9+H9)*I9 -> 9638604.7 | K9: =J9*1% -> 96386.047
A10: 6 | B10: Nguyễn Văn Chiến | C10: 3.66 | D10: 0.35 | F10: =C10*E10 -> 0 | I10: 1390000 | J10: =(C10+D10+F10+H10)*I10 -> 5573900 | K10: =J10*1% -> 55739
A11: 7 | B11: Nguyễn Văn Tấn | C11: 4.98 | D11: 0.35 | E11: 0.1 | F11: =C11*E11 -> 0.498 | I11: 1390000 | J11: =(C11+D11+F11+H11)*I11 -> 8100920 | K11: =J11*1% -> 81009.2
A12: 8 | B12: Nguyễn Thị Kim Dung | C12: 3.66 | D12: 0.35 | F12: =C12*E12 -> 0 | I12: 1390000 | J12: =(C12+D12+F12+H12)*I12 -> 5573900 | K12: =J12*1% -> 55739
A13: 9 | B13: Nguyễn Chí Nhân | C13: 3.99 | D13: 0.35 | F13: =C13*E13 -> 0 | G13: 0.13 | H13: =(C13+D13+F13)*G13 -> 0.5642 | I13: 1390000 | J13: =(C13+D13+F13+H13)*I13 -> 6816838 | K13: =J13*1% -> 68168.38
A14: 10 | B14: Lê Quang Liêm | C14: 4.65 | D14: 0.45 | F14: =C14*E14 -> 0 | G14: 0.17 | H14: =(C14+D14+F14)*G14 -> 0.867 | I14: 1390000 | J14: =(C14+D14+F14+H14)*I14 -> 8294130 | K14: =J14*1% -> 82941.3
A15: 11 | B15: Võ Thị Xuân Thơ | C15: 3.99 | F15: =C15*E15 -> 0 | I15: 1390000 | J15: =(C15+D15+F15+H15)*I15 -> 5546100 | K15: =J15*1% -> 55461
A16: 12 | B16: Phạm Hữu Tấn | C16: 2.67 | F16: =C16*E16 -> 0 | I16: 1390000 | J16: =(C16+D16+F16+H16)*I16 -> 3711300 | K16: =J16*1% -> 37113
A17: 13 | B17: Nguyễn Ngọc Trang | C17: 5.42 | D17: 0.45 | F17: =C17*E17 -> 0 | G17: 0.26 | H17: =(C17+D17+F17)*G17 -> 1.5262 | I17: 1390000 | J17: =(C17+D17+F17+H17)*I17 -> 10280718 | K17: =J17*1% -> 102807.18
A18: 14 | B18: Trương Thị Hồng | C18: 2.67 | F18: =C18*E18 -> 0 | H18: =(C18+D18+F18)*G18 -> 0 | I18: 1390000 | J18: =(C18+D18+F18+H18)*I18 -> 3711300 | K18: =J18*1% -> 37113
A19: 15 | B19: Nguyễn Yến Nhi | C19: 3 | F19: =C19*E19 -> 0 | H19: =(C19+D19+F19)*G19 -> 0 | I19: 1390000 | J19: =(C19+D19+F19+H19)*I19 -> 4170000 | K19: =J19*1%+L19 -> 41700
A20: 16 | B20: Lưu Hoàng Hải Yến | C20: 2.67 | F20: =C20*E20 -> 0 | I20: 1390000 | J20: =(C20+D20+F20+H20)*I20 -> 3711300 | K20: =J20*1% -> 37113
A21: 17 | B21: Trần Quốc Định | C21: 2.41 | F21: =C21*E21 -> 0 | I21: 1390000 | J21: =(C21+D21+F21+H21)*I21 -> 3349900 | K21: =J21*1% -> 33499
A22: 18 | B22: Thái Thị My Sa | C22: 2.67 | I22: 1390000 | J22: =((C22+D22+F22+H22)*I22) -> 3711300 | K22: =J22*0.005 -> 18556.5
A23: TỔNG CỘNG: | J23: =SUM(J5:J22) -> 1.1305647e+08 | K23: =SUM(K5:K22) -> 1112008.2
B24: Ghi chú: Đảng viên Thái Thị My Sa, nghỉ chế độ thai sản từ 1/2/2019 - 1/8/2019 (Đóng 5%)
A25: - Chi bộ trích lại 30% tiền thu đảng phí: | D25: =K23*30% -> 333602.46 | E25: đồng
A26: - Chi bộ nộp lên đảng bộ trường 70%: | D26: =K23*70% -> 778405.74 | E26: đồng
M27: =790861*2+797764 -> 2379486
G28: TP.Hồ Chí Minh, ngày tháng năm 2019 | M28: =M27-2397486 -> -18000
A29: NGƯỜI LẬP BÁO CÁO | G29: T/M CHI BỘ
G30: BÍ THƯ
A36: Nguyễn Thị Hoa | G36: Lâm Viết Dũng

Sheet THANG 3
A1: ĐẢNG BỘ TRƯỜNG CAO ĐẲNG LÝ TỰ TRỌNG THÀNH PHỐ HỒ CHÍ MINH CHI BỘ 2 * | G1: CỘNG HÒA XÃ HỘI CHỦ NGHĨA VIỆT NAM Độc lập - Tự do - Hạnh phúc
A2: BẢNG TỔNG HỢP Các khoản thu nhập dùng để tính đóng đảng phí tháng 3 năm 2019
A3: TT | B3: Họ tên | C3: HS lương | D3: PC CV | E3: PC VK | G3: Phụ cấp TNNG | I3: Lương cơ bản | J3: Tổng lương | K3: Đảng phí 1% | L3: Truy thu
B4: 2 | C4: 3 | D4: 4 | E4: 5 | F4: 6=3*5 | G4: 7 | H4: 8=(3+4+6)*7 | I4: 9 | J4: 10 = 8*9 | K4: 11=10*1%
A5: 1 | B5: Phạm Hữu Lộc | C5: 4.98 | D5: 0.9 | E5: 0.09 | F5: =C5*E5 -> 0.4482 | G5: 0.31 | H5: =(C5+D5+F5)*G5 -> 1.961742 | I5: 1390000 | J5: =(C5+D5+F5+H5)*I5 -> 11523019 | K5: =J5*1% -> 115230.19
A6: 2 | B6: Lâm Viết Dũng | C6: 4.65 | D6: 0.45 | F6: =C6*E6 -> 0 | G6: 0.16 | H6: =(C6+D6+F6)*G6 -> 0.816 | I6: 1390000 | J6: =(C6+D6+F6+H6)*I6 -> 8223240 | K6: =J6*1% -> 82232.4
A7: 3 | B7: Nguyễn Thị Hoa | C7: 4.65 | D7: 0.35 | F7: =C7*E7 -> 0 | I7: 1390000 | J7: =(C7+D7+F7+H7)*I7 -> 6950000 | K7: =J7*1% -> 69500
A8: 4 | B8: Nguyễn Văn Chì | C8: 3 | F8: =C8*E8 -> 0 | I8: 1390000 | J8: =(C8+D8+F8+H8)*I8 -> 4170000 | K8: =J8*1% -> 41700
A9: 5 | B9: Nguyễn Thanh Lâm | C9: 4.98 | D9: 0.45 | E9: 0.11 | F9: =C9*E9 -> 0.5478 | G9: 0.16 | H9: =(C9+D9+F9)*G9 -> 0.956448 | I9: 1390000 | J9: =(C9+D9+F9+H9)*I9 -> 9638604.7 | K9: =J9*1% -> 96386.047
A10: 6 | B10: Nguyễn Văn Chiến | C10: 3.66 | D10: 0.35 | F10: =C10*E10 -> 0 | I10: 1390000 | J10: =(C10+D10+F10+H10)*I10 -> 5573900 | K10: =J10*1% -> 55739
A11: 7 | B11: Nguyễn Văn Tấn | C11: 4.98 | D11: 0.35 | E11: 0.1 | F11: =C11*E11 -> 0.498 | I11: 1390000 | J11: =(C11+D11+F11+H11)*I11 -> 8100920 | K11: =J11*1% -> 81009.2
A12: 8 | B12: Nguyễn Thị Kim Dung | C12: 3.66 | D12: 0.35 | F12: =C12*E12 -> 0 | I12: 1390000 | J12: =(C12+D12+F12+H12)*I12 -> 5573900 | K12: =J12*1% -> 55739
A13: 9 | B13: Nguyễn Chí Nhân | C13: 3.99 | D13: 0.35 | F13: =C13*E13 -> 0 | G13: 0.13 | H13: =(C13+D13+F13)*G13 -> 0.5642 | I13: 1390000 | J13: =(C13+D13+F13+H13)*I13 -> 6816838 | K13: =J13*1% -> 68168.38
A14: 10 | B14: Lê Quang Liêm | C14: 4.65 | D14: 0.45 | F14: =C14*E14 -> 0 | G14: 0.17 | H14: =(C14+D14+F14)*G14 -> 0.867 | I14: 1390000 | J14: =(C14+D14+F14+H14)*I14 -> 8294130 | K14: =J14*1% -> 82941.3
A15: 11 | B15: Võ Thị Xuân Thơ | C15: 3.99 | F15: =C15*E15 -> 0 | I15: 1390000 | J15: =(C15+D15+F15+H15)*I15 -> 5546100 | K15: =J15*1% -> 55461
A16: 12 | B16: Phạm Hữu Tấn | C16: 2.67 | F16: =C16*E16 -> 0 | I16: 1390000 | J16: =(C16+D16+F16+H16)*I16 -> 3711300 | K16: =J16*1% -> 37113
A17: 13 | B17: Nguyễn Ngọc Trang | C17: 5.42 | D17: 0.45 | F17: =C17*E17 -> 0 | G17: 0.26 | H17: =(C17+D17+F17)*G17 -> 1.5262 | I17: 1390000 | J17: =(C17+D17+F17+H17)*I17 -> 10280718 | K17: =J17*1% -> 102807.18
A18: 14 | B18: Trương Thị Hồng | C18: 2.67 | F18: =C18*E18 -> 0 | H18: =(C18+D18+F18)*G18 -> 0 | I18: 1390000 | J18: =(C18+D18+F18+H18)*I18 -> 3711300 | K18: =J18*1% -> 37113
A19: 15 | B19: Nguyễn Yến Nhi | C19: 3 | F19: =C19*E19 -> 0 | H19: =(C19+D19+F19)*G19 -> 0 | I19: 1390000 | J19: =(C19+D19+F19+H19)*I19 -> 4170000 | K19: =J19*1% -> 41700
A20: 16 | B20: Lưu Hoàng Hải Yến | C20: 2.67 | F20: =C20*E20 -> 0 | I20: 1390000 | J20: =(C20+D20+F20+H20)*I20 -> 3711300 | K20: =J20*1%+L20 -> 37113
A21: 17 | B21: Trần Quốc Định | C21: 2.41 | F21: =C21*E21 -> 0 | I21: 1390000 | J21: =(C21+D21+F21+H21)*I21 -> 3349900 | K21: =J21*1% -> 33499
A22: 18 | B22: Thái Thị My Sa | C22: 2.67 | F22: =C22*E22 -> 0 | I22: 1390000 | J22: =(C22+D22+F22+H22)*I22 -> 3711300 | K22: =J22*0.005 -> 18556.5
A23: TỔNG CỘNG: | J23: =SUM(J5:J22) -> 1.1305647e+08 | K23: =SUM(K5:K22) -> 1112008.2
B24: Ghi chú: Đảng viên Thái Thị My Sa, nghỉ chế độ thai sản từ 1/2/2019 - 1/8/2019 (Đóng 5%)
A25: - Chi bộ trích lại 30% tiền thu đảng phí: | D25: =K23*30% -> 333602.46 | E25: đồng
A26: - Chi bộ nộp lên đảng bộ trường 70%: | D26: =K23*70% -> 778405.74 | E26: đồng
G28: TP.Hồ Chí Minh, ngày tháng năm 2019
A29: NGƯỜI LẬP BÁO CÁO | G29: T/M CHI BỘ
G30: BÍ THƯ
A36: Nguyễn Thị Hoa | G36: Lâm Viết Dũng

Sheet QUI I
A1: ĐẢNG BỘ TRƯỜNG CAO ĐẲNG LÝ TỰ TRỌNGTHÀNH PHỐ HỒ CHÍ MINH CHI BỘ 2 * | D1: CỘNG HÒA XÃ HỘI CHỦ NGHĨA VIỆT NAM Độc lập - Tự do - Hạnh phúc
A2: BẢNG TỔNG HỢP Các khoản thu nhập dùng để tính đóng đảng phí quý I năm 2019
A3: TT | B3: Họ tên | C3: Đảng phí tháng 01 | D3: Đảng phí tháng 02 | E3: Đảng phí tháng 3 | F3: Đảng phí Quý I
A4: 1 | B4: Phạm Hữu Lộc | C4: ='THANG 1'!K5 -> 115230.19 | D4: 115230.19 | E4: 115230.19 | F4: =SUM(C4:E4) -> 345690.58
A5: 2 | B5: Lâm Viết Dũng | C5: ='THANG 1'!K6 -> 82232.4 | D5: 82232.4 | E5: 82232.4 | F5: =SUM(C5:E5) -> 246697.2
A6: 3 | B6: Nguyễn Thị Hoa | C6: ='THANG 1'!K7 -> 69500 | D6: 69500 | E6: 69500 | F6: =SUM(C6:E6) -> 208500
A7: 4 | B7: Nguyễn Văn Chì | C7: ='THANG 1'!K8 -> 41700 | D7: 41700 | E7: 41700 | F7: =SUM(C7:E7) -> 125100
A8: 5 | B8: Nguyễn Thanh Lâm | C8: ='THANG 1'!K9 -> 96386.047 | D8: =C8 -> 96386.047 | E8: =D8 -> 96386.047 | F8: =SUM(C8:E8) -> 289158.14
A9: 6 | B9: Nguyễn Văn Chiến | C9: ='THANG 1'!K10 -> 55739 | D9: 55739 | E9: 55739 | F9: =SUM(C9:E9) -> 167217
A10: 7 | B10: Nguyễn Văn Tấn | C10: ='THANG 1'!K11 -> 81009.2 | D10: =C10 -> 81009.2 | E10: =D10 -> 81009.2 | F10: =SUM(C10:E10) -> 243027.6
A11: 8 | B11: Nguyễn Thị Kim Dung | C11: ='THANG 1'!K12 -> 55739 | D11: 55739 | E11: 55739 | F11: =SUM(C11:E11) -> 167217
A12: 9 | B12: Nguyễn Chí Nhân | C12: ='THANG 1'!K13 -> 68168.38 | D12: 68168.38 | E12: 68168.38 | F12: =SUM(C12:E12) -> 204505.14
A13: 10 | B13: Lê Quang Liêm | C13: ='THANG 1'!K14 -> 82941.3 | D13: 82941.3 | E13: 82941.3 | F13: =SUM(C13:E13) -> 248823.9
A14: 11 | B14: Võ Thị Xuân Thơ | C14: ='THANG 1'!K15 -> 55461 | D14: 55461 | E14: 55461 | F14: =SUM(C14:E14) -> 166383
A15: 12 | B15: Phạm Hữu Tấn | C15: ='THANG 1'!K16 -> 37113 | D15: 37113 | E15: 37113 | F15: =SUM(C15:E15) -> 111339
A16: 13 | B16: Nguyễn Ngọc Trang | C16: ='THANG 1'!K17 -> 102807.18 | D16: =C16 -> 102807.18 | E16: =D16 -> 102807.18 | F16: =SUM(C16:E16) -> 308421.54
A17: 14 | B17: Trương Thị Hồng | C17: ='THANG 1'!K18 -> 37113 | D17: 37113 | E17: 37113 | F17: =SUM(C17:E17) -> 111339
A18: 15 | B18: Nguyễn Yến Nhi | C18: ='THANG 1'!K19 -> 41700 | D18: 41700 | E18: 41700 | F18: =SUM(C18:E18) -> 125100
A19: 16 | B19: Lưu Hoàng Hải Yến | C19: ='THANG 1'!K20 -> 37113 | D19: =C19 -> 37113 | E19: =D19 -> 37113 | F19: =SUM(C19:E19) -> 111339
A20: 17 | B20: Trần Quốc Định | C20: ='THANG 1'!K21 -> 33499 | D20: 33499 | E20: =D20 -> 33499 | F20: =SUM(C20:E20) -> 100497
A21: 18 | B21: Thái Thị My Sa | C21: ='THANG 1'!K22 -> 37113 | D21: ='THANG 2'!K22 -> 18556.5 | E21: ='THANG 3'!K22 -> 18556.5 | F21: =SUM(C21:E21) -> 74226
A22: TỔNG CỘNG: | C22: =SUM(C4:C21) -> 1130564.7 | D22: =SUM(D4:D21) -> 1112008.2 | E22: =SUM(E4:E21) -> 1112008.2 | F22: =SUM(F4:F21) -> 3354581.1
A24: - Chi bộ trích lại 30% tiền thu đảng phí: | C24: =F22*30% -> 1006374.3 | D24: đồng
A25: - Chi bộ nộp lên đảng bộ trường 70%: | C25: =F22*70% -> 2348206.8 | D25: đồng
D27: TP.Hồ Chí Minh, ngày tháng năm 2019
A28: NGƯỜI LẬP BÁO CÁO | D28: T/M CHI BỘ
D29: BÍ THƯ
A35: Nguyễn Thị Hoa | D35: Lâm Viết Dũng

Sheet THANG 4
A1: ĐẢNG BỘ TRƯỜNG CAO ĐẲNG LÝ TỰ TRỌNG THÀNH PHỐ HỒ CHÍ MINH CHI BỘ 2 * | G1: CỘNG HÒA XÃ HỘI CHỦ NGHĨA VIỆT NAM Độc lập - Tự do - Hạnh phúc
A2: BẢNG TỔNG HỢP Các khoản thu nhập dùng để tính đóng đảng phí tháng 01 năm 2019
A3: TT | B3: Họ tên | C3: HS lương | D3: PC CV | E3: PC VK | G3: Phụ cấp TNNG | I3: Lương cơ bản | J3: Tổng lương | K3: Đảng phí 1% | L3: Truy thu
B4: 2 | C4: 3 | D4: 4 | E4: 5 | F4: 6=3*5 | G4: 7 | H4: 8=(3+4+6)*7 | I4: 9 | J4: 10 = 8*9 | K4: 11=10*1%
A5: 1 | B5: Phạm Hữu Lộc | C5: 4.98 | D5: 0.9 | E5: 0.09 | F5: =C5*E5 -> 0.4482 | G5: 0.31 | H5: =(C5+D5+F5)*G5 -> 1.961742 | I5: 1390000 | J5: =(C5+D5+F5+H5)*I5 -> 11523019 | K5: =J5*1% -> 115230.19
A6: 2 | B6: Lâm Viết Dũng | C6: 4.65 | D6: 0.45 | F6: =C6*E6 -> 0 | G6: 0.16 | H6: =(C6+D6+F6)*G6 -> 0.816 | I6: 1390000 | J6: =(C6+D6+F6+H6)*I6 -> 8223240 | K6: =J6*1% -> 82232.4
A7: 3 | B7: Nguyễn Thị Hoa | C7: 4.65 | D7: 0.35 | F7: =C7*E7 -> 0 | I7: 1390000 | J7: =(C7+D7+F7+H7)*I7 -> 6950000 | K7: =J7*1% -> 69500
A8: 4 | B8: Nguyễn Văn Chì | C8: 3 | F8: =C8*E8 -> 0 | I8: 1390000 | J8: =(C8+D8+F8+H8)*I8 -> 4170000 | K8: =J8*1% -> 41700
A9: 5 | B9: Nguyễn Thanh Lâm | C9: 4.98 | D9: 0.45 | E9: 0.11 | F9: =C9*E9 -> 0.5478 | G9: 0.16 | H9: =(C9+D9+F9)*G9 -> 0.956448 | I9: 1390000 | J9: =(C9+D9+F9+H9)*I9 -> 9638604.7 | K9: =J9*1% -> 96386.047
A10: 6 | B10: Nguyễn Văn Chiến | C10: 3.66 | D10: 0.35 | F10: =C10*E10 -> 0 | I10: 1390000 | J10: =(C10+D10+F10+H10)*I10 -> 5573900 | K10: =J10*1% -> 55739
A11: 7 | B11: Nguyễn Văn Tấn | C11: 4.98 | D11: 0.35 | E11: 0.1 | F11: =C11*E11 -> 0.498 | I11: 1390000 | J11: =(C11+D11+F11+H11)*I11 -> 8100920 | K11: =J11*1% -> 81009.2
A12: 8 | B12: Nguyễn Thị Kim Dung | C12: 3.66 | D12: 0.35 | F12: =C12*E12 -> 0 | I12: 1390000 | J12: =(C12+D12+F12+H12)*I12 -> 5573900 | K12: =J12*1% -> 55739
A13: 9 | B13: Nguyễn Chí Nhân | C13: 3.99 | D13: 0.45 | F13: =C13*E13 -> 0 | G13: 0.13 | H13: =(C13+D13+F13)*G13 -> 0.5772 | I13: 1390000 | J13: =(C13+D13+F13+H13)*I13 -> 6973908 | K13: =J13*1% -> 69739.08
A14: 10 | B14: Lê Quang Liêm | C14: 4.65 | D14: 0.45 | F14: =C14*E14 -> 0 | G14: 0.17 | H14: =(C14+D14+F14)*G14 -> 0.867 | I14: 1390000 | J14: =(C14+D14+F14+H14)*I14 -> 8294130 | K14: =J14*1% -> 82941.3
A15: 11 | B15: Võ Thị Xuân Thơ | C15: 3.99 | F15: =C15*E15 -> 0 | I15: 1390000 | J15: =(C15+D15+F15+H15)*I15 -> 5546100 | K15: =J15*1% -> 55461
A16: 12 | B16: Phạm Hữu Tấn | C16: 2.67 | F16: =C16*E16 -> 0 | I16: 1390000 | J16: =(C16+D16+F16+H16)*I16 -> 3711300 | K16: =J16*1% -> 37113
A17: 13 | B17: Nguyễn Ngọc Trang | C17: 5.42 | D17: 0.45 | F17: =C17*E17 -> 0 | G17: 0.26 | H17: =(C17+D17+F17)*G17 -> 1.5262 | I17: 1390000 | J17: =(C17+D17+F17+H17)*I17 -> 10280718 | K17: =J17*1% -> 102807.18 | M17: =L19+L20+L21 -> 37600 | N17: =M17*30% -> 11280
A18: 14 | B18: Trương Thị Hồng | C18: 2.67 | F18: =C18*E18 -> 0 | H18: =(C18+D18+F18)*G18 -> 0 | I18: 1390000 | J18: =(C18+D18+F18+H18)*I18 -> 3711300 | K18: =J18*1% -> 37113 | N18: =M17-N17 -> 26320 | O18: =N18*30% -> 7896
A19: 15 | B19: Nguyễn Yến Nhi | C19: 3 | F19: =C19*E19 -> 0 | H19: =(C19+D19+F19)*G19 -> 0 | I19: 1390000 | J19: =(C19+D19+F19+H19)*I19 -> 4170000 | K19: =J19*1% -> 41700 | L19: 4587
A20: 16 | B20: Lưu Hoàng Hải Yến | C20: 2.67 | F20: =C20*E20 -> 0 | I20: 1390000 | J20: =(C20+D20+F20+H20)*I20 -> 3711300 | K20: =J20*1% -> 37113 | L20: 16263
A21: 17 | B21: Trần Quốc Định | C21: 2.41 | F21: =C21*E21 -> 0 | I21: 1390000 | J21: =(C21+D21+F21+H21)*I21 -> 3349900 | K21: =J21*1% -> 33499 | L21: 16750 | N21: =SUM(K5:K21) -> 1095022.4
A22: 18 | B22: Thái Thị My Sa | C22: 2.67 | F22: =C22*E22 -> 0
A23: TỔNG CỘNG: | J23: =SUM(J5:J22) -> 1.0950224e+08 | K23: =SUM(K5:K22) -> 1095022.4
A25: - Chi bộ trích lại 30% tiền thu đảng phí: | D25: =K23*30% -> 328506.72 | E25: đồng
A26: - Chi bộ nộp lên đảng bộ trường 70%: | D26: =K23*70% -> 766515.68 | E26: đồng
G28: TP.Hồ Chí Minh, ngày tháng năm 2019
A29: NGƯỜI LẬP BÁO CÁO | G29: T/M BỘ
G30: BÍ THƯ
